BEGIN:VCALENDAR
VERSION:2.0
PRODID:-//wp-events-plugin.com//7.2.3.1//EN
BEGIN:VEVENT
UID:457@bewellnm.com
DTSTART:20250628T090000Z
DTEND:20250628T120000Z
DTSTAMP:20250626T194716Z
URL:https://bewellnm.com/events/5k-fun-walk-health-fair/
SUMMARY:5k Fun Walk & Health Fair
DESCRIPTION:Join us for a fun 5k walk and Health Fair for Taos Cancer Suppo
 rt services on June 28th at Kit Carson Park.
ATTACH;FMTTYPE=image/jpeg:https://bewellnm.com/wp-content/uploads/2025/06/
 Screenshot-2025-06-26-134509-e1750967215847.png
CATEGORIES:Community
LOCATION:Kit Carson Park\, 211 Paseo Del Pueblo Norte\, Taos\, New Mexico\,
  87571\, United States
GEO:36.408446;-105.569787
X-APPLE-STRUCTURED-LOCATION;VALUE=URI;X-ADDRESS=211 Paseo Del Pueblo Norte\
 , Taos\, New Mexico\, 87571\, United States;X-APPLE-RADIUS=100;X-TITLE=Kit
  Carson Park:geo:36.408446,-105.569787
END:VEVENT
END:VCALENDAR