BEGIN:VCALENDAR
VERSION:2.0
PRODID:-//wp-events-plugin.com//7.2.3.1//EN
BEGIN:VEVENT
UID:360@bewellnm.com
DTSTART:20241219T100000Z
DTEND:20241219T150000Z
DTSTAMP:20241218T220324Z
URL:https://bewellnm.com/events/blue-door/
SUMMARY:BCBS Blue Door Neighborhood Center
DESCRIPTION:The annual Open Enrollment period to enroll in health insurance
  coverage ends January 15\, 2025. Enroll by December 31 to secure your cov
 erage for January 2025.\n\nMeet with a BeWell certified assister in Albuqu
 erque to get answers to your health insurance questions and help finding a
 nd enrolling in a plan – for free. They are available from 10 a.m. – 3
  p.m. at the Blue Door Neighborhood Center located in the South Valley. RS
 VP below or walk-in! Appointments are not required.\n\nRSVP
ATTACH;FMTTYPE=image/jpeg:https://bewellnm.com/wp-content/uploads/2024/09/
 bdnc-outdoor-rendering-nm-e1734559393829.jpg
CATEGORIES:In-Person
LOCATION:Blue Door\, 3925 Las Estanchias Way SW\, Suite A\, Albuquerque\, N
 ew Mexico\, 87121\, United States
GEO:35.01914;-106.713498
X-APPLE-STRUCTURED-LOCATION;VALUE=URI;X-ADDRESS=3925 Las Estanchias Way SW\
 , Suite A\, Albuquerque\, New Mexico\, 87121\, United States;X-APPLE-RADIU
 S=100;X-TITLE=Blue Door:geo:35.01914,-106.713498
END:VEVENT
END:VCALENDAR