BEGIN:VCALENDAR
VERSION:2.0
PRODID:-//wp-events-plugin.com//7.2.3.1//EN
BEGIN:VEVENT
UID:594@bewellnm.com
DTSTART:20260421T120000Z
DTEND:20260421T140000Z
DTSTAMP:20260415T212808Z
URL:https://bewellnm.com/events/cnm-main-campus-apr21/
SUMMARY:CNM Main Campus - KW Building
DESCRIPTION:Have questions about your health insurance or just need help un
 derstanding your options? Join BeWell at CNM Main Campus in the KW Buildin
 g for weekly office hours\, held this Tuesday from 12 p.m. to 2 p.m. Our k
 nowledgeable team will be available to provide one-on-one support and answ
 er your questions. We can help you:\n\n 	Understand your eligibility for p
 lans and financial assistance.\n 	Learn how much different plans may cost.
 \n 	Find options that allow you to keep seeing your current providers.\n 	
 Navigate applications and feel confident about your choices.\n\nWhether yo
 u’re new to health insurance\, experiencing a life change\, or just want
  to better understand your coverage options\, stop by and get the personal
 ized assistance you need for free—no appointment required.\n\nHelp us pr
 epare for your visit by giving us some more information\n\nInterest and Co
 ntact Form
ATTACH;FMTTYPE=image/jpeg:https://bewellnm.com/wp-content/uploads/2025/10/
 0924_CNM-5-scaled-e1765142535911.jpg
CATEGORIES:In-Person
LOCATION:CNM Main Campus - KW Building\, 716 University Blvd SE\, Albuquerq
 ue\, New Mexico\, 87106\, United States
GEO:35.075267;-106.627997
X-APPLE-STRUCTURED-LOCATION;VALUE=URI;X-ADDRESS=716 University Blvd SE\, Al
 buquerque\, New Mexico\, 87106\, United States;X-APPLE-RADIUS=100;X-TITLE=
 CNM Main Campus - KW Building:geo:35.075267,-106.627997
END:VEVENT
END:VCALENDAR