BEGIN:VCALENDAR
VERSION:2.0
PRODID:-//wp-events-plugin.com//7.2.3.1//EN
BEGIN:VEVENT
UID:250@bewellnm.com
DTSTART:20240921T110000Z
DTEND:20240921T150000Z
DTSTAMP:20240905T212937Z
URL:https://bewellnm.com/events/fall-into-fitness/
SUMMARY:Fall Into Fitness Health Fair
DESCRIPTION:&nbsp\;\n\nJoin BeWell at the Fall Into Fitness Health Fair hel
 d at the Rio West Mall on Saturday September 21\, 2024 from 11am-3pm. Ther
 e will be informational booths\, free screenings\, activities\, and more! 
 BeWell will have information on coverage options with New Mexico’s Healt
 h Insurance Marketplace.
ATTACH;FMTTYPE=image/jpeg:https://bewellnm.com/wp-content/uploads/2024/09/
 RioWestMall-e1726678544738.jpg
CATEGORIES:Community
LOCATION:\, \, 
GEO:35.531599;-108.763139
X-APPLE-STRUCTURED-LOCATION;VALUE=URI;X-ADDRESS=\, ;X-APPLE-RADIUS=100;X-TI
 TLE=:geo:35.531599,-108.763139
END:VEVENT
END:VCALENDAR