BEGIN:VCALENDAR
VERSION:2.0
PRODID:-//wp-events-plugin.com//7.2.3.1//EN
BEGIN:VEVENT
UID:596@bewellnm.com
DTSTART:20260418T100000Z
DTEND:20260418T140000Z
DTSTAMP:20260402T151006Z
URL:https://bewellnm.com/events/international-library-apr18/
SUMMARY:International District Public Library
DESCRIPTION:Have questions about your health insurance or just need help un
 derstanding your options? Join BeWell at the International District Librar
 y office hours\, held every third Saturday of the month from 10 a.m. to 2 
 p.m. Our knowledgeable team will be available to provide one-on-one suppor
 t and answer your questions. We can help you:\n\n 	Learn how BeWell works 
 with IHS and Tribal health care.\n 	Learn how much a plan could cost.\n 	G
 et answers to health insurance questions.\n\nWhether you’re new to healt
 h insurance\, experiencing a life change\, or just want to better understa
 nd your coverage options\, stop by and get the personalized assistance you
  need for free—no appointment required.\n\nHelp us prepare for your visi
 t by giving us some more information\n\nInterest and Contact Form
ATTACH;FMTTYPE=image/jpeg:https://bewellnm.com/wp-content/uploads/2024/04/
 International-District-Library-e1761577710696.jpeg
CATEGORIES:In-Person
LOCATION:International District Library\, 7601 Central Ave\, Albuquerque\, 
 New Mexico\, 87108\, United States
GEO:35.074114;-106.550107
X-APPLE-STRUCTURED-LOCATION;VALUE=URI;X-ADDRESS=7601 Central Ave\, Albuquer
 que\, New Mexico\, 87108\, United States;X-APPLE-RADIUS=100;X-TITLE=Intern
 ational District Library:geo:35.074114,-106.550107
END:VEVENT
END:VCALENDAR