BEGIN:VCALENDAR
VERSION:2.0
PRODID:-//wp-events-plugin.com//7.2.3.1//EN
BEGIN:VEVENT
UID:288@bewellnm.com
DTSTART:20241011T133000Z
DTEND:20241011T163000Z
DTSTAMP:20240906T150351Z
URL:https://bewellnm.com/events/laguna-community-health-center-oct-11/
SUMMARY:Laguna Community Health Center
DESCRIPTION:Have you recently lost Medicaid or are you looking to expand yo
 ur coverage with IHS and Tribal Healthcare Centers?\n\nMeet with a BeWell 
 certified assister in Laguna Pueblo to get answers to your health insuranc
 e questions and help finding and enrolling in a plan – for free. They ar
 e available from 1:30 p.m. to 4:30 p.m. at the Laguna Community Health Cen
 ter. Walk-ins are welcome and appointments are not required.\n\nWith a BeW
 ell plan\, you can keep seeing your Indian Health Service or Tribal/Urban 
 Indian Health Centers providers\, and access specialty\, urgent\, and emer
 gent care through a qualified health plan. Native Americans living in New 
 Mexico may be eligible for no-cost to low-cost health insurance options in
  2024.
ATTACH;FMTTYPE=image/jpeg:https://bewellnm.com/wp-content/uploads/2024/06/
 NA-Event-Image-no-text.jpg
CATEGORIES:In-Person
LOCATION:\, \, 
GEO:35.051996;-107.450229
X-APPLE-STRUCTURED-LOCATION;VALUE=URI;X-ADDRESS=\, ;X-APPLE-RADIUS=100;X-TI
 TLE=:geo:35.051996,-107.450229
END:VEVENT
END:VCALENDAR