BEGIN:VCALENDAR
VERSION:2.0
PRODID:-//wp-events-plugin.com//7.2.3.1//EN
BEGIN:VEVENT
UID:124@bewellnm.com
DTSTART:20240508T150000Z
DTEND:20240508T193000Z
DTSTAMP:20240507T220210Z
URL:https://bewellnm.com/events/las-cruces-enrollment-event-dona-ana-commu
 nity-college/
SUMMARY:Las Cruces Enrollment Event\, Dona Ana Community College - Espina
DESCRIPTION:Did you lose Medicaid or are you in need of health coverage?\n\
 nDon’t wait to Enroll! Allow BeWell to connect you to affordable health 
 insurance. Join us at our in-person enrollment event\, where our team of l
 ocal Certified Assisters and Brokers will provide you with personalized su
 pport. They’ll answer your health insurance questions\, help you underst
 and the financial assistance available to you\, and guide you through the 
 enrollment process—for FREE.\n\nRSVP here.
CATEGORIES:In-Person
LOCATION:\, \, 
GEO:32.270844;-106.75324
X-APPLE-STRUCTURED-LOCATION;VALUE=URI;X-ADDRESS=\, ;X-APPLE-RADIUS=100;X-TI
 TLE=:geo:32.270844,-106.75324
END:VEVENT
END:VCALENDAR