BEGIN:VCALENDAR
VERSION:2.0
PRODID:-//wp-events-plugin.com//7.2.3.1//EN
BEGIN:VEVENT
UID:130@bewellnm.com
DTSTART:20240522T140000Z
DTEND:20240522T160000Z
DTSTAMP:20240516T212720Z
URL:https://bewellnm.com/events/las-vegas-enrollment-event-carnegie/
SUMMARY:Las Vegas Enrollment Event\, Carnegie Library
DESCRIPTION:Did you lose Medicaid or are you in need of health coverage?\n\
 nDon’t wait to Enroll! Allow BeWell to connect you to affordable health 
 insurance. Join us at our in-person enrollment event\, where our team of l
 ocal Certified Assisters and Brokers will provide you with personalized su
 pport. They’ll answer your health insurance questions\, help you underst
 and the financial assistance available to you\, and guide you through the 
 enrollment process—for FREE.\n\nRSVP here.
ATTACH;FMTTYPE=image/jpeg:https://bewellnm.com/wp-content/uploads/2024/03/
 EnrollmentEvent3.jpg
CATEGORIES:In-Person
LOCATION:\, \, 
GEO:35.597755;-105.216167
X-APPLE-STRUCTURED-LOCATION;VALUE=URI;X-ADDRESS=\, ;X-APPLE-RADIUS=100;X-TI
 TLE=:geo:35.597755,-105.216167
END:VEVENT
END:VCALENDAR