BEGIN:VCALENDAR
VERSION:2.0
PRODID:-//wp-events-plugin.com//7.2.3.1//EN
BEGIN:VEVENT
UID:367@bewellnm.com
DTSTART:20241010T150000Z
DTEND:20241010T180000Z
DTSTAMP:20241004T180034Z
URL:https://bewellnm.com/events/october-health-festival/
SUMMARY:October Health Festival
DESCRIPTION:&nbsp\;\n\nJoin BeWell and APS Medicaid Enrollment at the Octob
 er Health Festival\, 6400 Uptown Blvd NE in Albuquerque\, from 3 to 6 PM. 
 In this event you will be able to get more information on enrolling in aff
 ordable\, high quality health coverage through the Marketplace. Plus new u
 pdates for DACA recipient's-starting Nov. 1\, you may be eligible for cove
 rage through the Marketplace and subsidies. There will also be on-site Med
 icaid enrollment\, LIHEAP\, SNAP and more. Prizes\, snacks\, and drinks wi
 ll be provided! See you there!
ATTACH;FMTTYPE=image/jpeg:https://bewellnm.com/wp-content/uploads/2024/04/
 bewell-event-2.jpg
CATEGORIES:Community
LOCATION:APS City Center\, 6400 Uptown Blvd NE\, Albuquerque\, New Mexico\,
  87110\, United States
GEO:35.102880;-106.572471
X-APPLE-STRUCTURED-LOCATION;VALUE=URI;X-ADDRESS=6400 Uptown Blvd NE\, Albuq
 uerque\, New Mexico\, 87110\, United States;X-APPLE-RADIUS=100;X-TITLE=APS
  City Center:geo:35.102880,-106.572471
END:VEVENT
END:VCALENDAR