BEGIN:VCALENDAR
VERSION:2.0
PRODID:-//wp-events-plugin.com//7.2.3.1//EN
BEGIN:VEVENT
UID:567@bewellnm.com
DTSTART:20260914T110000Z
DTEND:20260914T140000Z
DTSTAMP:20260204T191826Z
URL:https://bewellnm.com/events/virtual-enrollment-event-sep14/
SUMMARY:Virtual Office Hours - Zoom
DESCRIPTION:If you've lost Medicaid or are experiencing another life qualif
 ying event you could enroll during our Special Enrollment Period! Join our
  Zoom Monday\, September 14th from 11 a.m. to 2 p.m. for free health insur
 ance enrollment help.\n\nDuring the Zoom session\, our host will place you
  in a private breakout room and connect you with a BeWell certified assist
 er. They will review your health insurance options through the BeWell mark
 etplace\, review available financial assistance\, and guide you through th
 e enrollment process—for FREE.\n\nQuestions on what qualifies you to app
 ly during a Special Enrollment Period? Read about qualifying life events!\
 n\nRSVP\n\nClick to Join Zoom Meeting\n\nView attending a Virtual Event in
 structions
ATTACH;FMTTYPE=image/jpeg:https://bewellnm.com/wp-content/uploads/2025/07/
 Justine_Zoom-e1761577555219.png
CATEGORIES:Virtual
LOCATION:http://nmhix.zoom.us/my/nmhix.outreach
END:VEVENT
END:VCALENDAR